BEGIN:VCALENDAR
VERSION:2.0
PRODID:-//Bicton Junior Cricket Club - ECPv6.15.11//NONSGML v1.0//EN
CALSCALE:GREGORIAN
METHOD:PUBLISH
X-WR-CALNAME:Bicton Junior Cricket Club
X-ORIGINAL-URL:https://www.bictonjcc.com.au
X-WR-CALDESC:Events for Bicton Junior Cricket Club
REFRESH-INTERVAL;VALUE=DURATION:PT1H
X-Robots-Tag:noindex
X-PUBLISHED-TTL:PT1H
BEGIN:VTIMEZONE
TZID:Australia/Perth
BEGIN:STANDARD
TZOFFSETFROM:+0800
TZOFFSETTO:+0800
TZNAME:AWST
DTSTART:20190101T000000
END:STANDARD
END:VTIMEZONE
BEGIN:VEVENT
DTSTART;TZID=Australia/Perth:20200609T190000
DTEND;TZID=Australia/Perth:20200609T210000
DTSTAMP:20260425T200916
CREATED:20200527T110206Z
LAST-MODIFIED:20200527T110206Z
UID:560-1591729200-1591736400@www.bictonjcc.com.au
SUMMARY:AGM 2020
DESCRIPTION:Bicton Junior Cricket Club will be holding its AGM on Tuesday\, 9th June 2020 at 7pm at Troy Park\, Burke Drive\, Attadale. \nPlease RSVP to admin@bictonjcc.com.au so Agenda and supporting documents can be sent to you in advance of meeting. 
URL:https://www.bictonjcc.com.au/event/agm-2020/
END:VEVENT
END:VCALENDAR