BEGIN:VCALENDAR
VERSION:2.0
PRODID:-//Bicton Junior Cricket Club - ECPv6.15.11//NONSGML v1.0//EN
CALSCALE:GREGORIAN
METHOD:PUBLISH
X-WR-CALNAME:Bicton Junior Cricket Club
X-ORIGINAL-URL:https://www.bictonjcc.com.au
X-WR-CALDESC:Events for Bicton Junior Cricket Club
REFRESH-INTERVAL;VALUE=DURATION:PT1H
X-Robots-Tag:noindex
X-PUBLISHED-TTL:PT1H
BEGIN:VTIMEZONE
TZID:Australia/Perth
BEGIN:STANDARD
TZOFFSETFROM:+0800
TZOFFSETTO:+0800
TZNAME:AWST
DTSTART:20190101T000000
END:STANDARD
END:VTIMEZONE
BEGIN:VEVENT
DTSTART;VALUE=DATE:20201010
DTEND;VALUE=DATE:20201012
DTSTAMP:20260425T184527
CREATED:20200828T074923Z
LAST-MODIFIED:20200828T074923Z
UID:613-1602288000-1602460799@www.bictonjcc.com.au
SUMMARY:Reconciliation round
DESCRIPTION:Reconciliation round – all weekend
URL:https://www.bictonjcc.com.au/event/reconciliation-round/
END:VEVENT
BEGIN:VEVENT
DTSTART;VALUE=DATE:20201017
DTEND;VALUE=DATE:20201019
DTSTAMP:20260425T184527
CREATED:20201013T065236Z
LAST-MODIFIED:20201013T065236Z
UID:629-1602892800-1603065599@www.bictonjcc.com.au
SUMMARY:SWMJCC Coaches Meeting/e-scoring workshop
DESCRIPTION:SWMJCC Coaches Meeting; e-scoring workshop; trial new rules game pencillled in for weekend of 17 & 18th October
URL:https://www.bictonjcc.com.au/event/swmjcc-coaches-meeting-e-scoring-workshop/
END:VEVENT
BEGIN:VEVENT
DTSTART;TZID=Australia/Perth:20201019T183000
DTEND;TZID=Australia/Perth:20201019T203000
DTSTAMP:20260425T184527
CREATED:20201013T065122Z
LAST-MODIFIED:20201013T065122Z
UID:627-1603132200-1603139400@www.bictonjcc.com.au
SUMMARY:Coaches Meeting/Equipment Pickup
DESCRIPTION:Coaches Meeting/Equipment Pickup
URL:https://www.bictonjcc.com.au/event/coaches-meeting-equipment-pickup/
END:VEVENT
BEGIN:VEVENT
DTSTART;VALUE=DATE:20201024
DTEND;VALUE=DATE:20201026
DTSTAMP:20260425T184527
CREATED:20201013T065335Z
LAST-MODIFIED:20201013T065335Z
UID:631-1603497600-1603670399@www.bictonjcc.com.au
SUMMARY:20/21 Season Start
DESCRIPTION:Season Start currently set at the weekend of 24/25 October
URL:https://www.bictonjcc.com.au/event/20-21-season-start/
END:VEVENT
BEGIN:VEVENT
DTSTART;TZID=Australia/Perth:20210222T173000
DTEND;TZID=Australia/Perth:20210222T200000
DTSTAMP:20260425T184527
CREATED:20210216T103310Z
LAST-MODIFIED:20210216T103321Z
UID:668-1614015000-1614024000@www.bictonjcc.com.au
SUMMARY:Community Coaching Course 2021
DESCRIPTION:Community Coaching Course – Feb 22nd\nat Troy Park 5-30pm to 8.00pm run by the WACA\n(registrations online require)
URL:https://www.bictonjcc.com.au/event/community-coaching-course-2021/
END:VEVENT
BEGIN:VEVENT
DTSTART;TZID=Australia/Perth:20210306T093000
DTEND;TZID=Australia/Perth:20210306T103000
DTSTAMP:20260425T184527
CREATED:20210130T083517Z
LAST-MODIFIED:20210228T120811Z
UID:655-1615023000-1615026600@www.bictonjcc.com.au
SUMMARY:Junior Blasters Wind Up 2020/21
DESCRIPTION:Junior Blasters Wind Up Sat 6th March 2021 – usual time to sessions they have every week.
URL:https://www.bictonjcc.com.au/event/junior-blasters-wind-up-2020-21/
END:VEVENT
BEGIN:VEVENT
DTSTART;TZID=Australia/Perth:20210308T170000
DTEND;TZID=Australia/Perth:20210308T183000
DTSTAMP:20260425T184527
CREATED:20210130T083402Z
LAST-MODIFIED:20210228T120919Z
UID:653-1615222800-1615228200@www.bictonjcc.com.au
SUMMARY:Master Blasters Wind Up 2020/21
DESCRIPTION:Master Blasters Wind Up Monday 8th March 2021 – usual time to sessions they have every week
URL:https://www.bictonjcc.com.au/event/master-blasters-wind-up-2020-21/
END:VEVENT
BEGIN:VEVENT
DTSTART;VALUE=DATE:20210310
DTEND;VALUE=DATE:20210311
DTSTAMP:20260425T184527
CREATED:20210228T120712Z
LAST-MODIFIED:20210228T120712Z
UID:672-1615334400-1615420799@www.bictonjcc.com.au
SUMMARY:Melville District coaching session - U10's
DESCRIPTION:Melville District Coaching session for ALL our U10s on the 10th March – Troy Park.
URL:https://www.bictonjcc.com.au/event/melville-district-coaching-session-u10s/
END:VEVENT
BEGIN:VEVENT
DTSTART;TZID=Australia/Perth:20210310T181500
DTEND;TZID=Australia/Perth:20210310T204500
DTSTAMP:20260425T184527
CREATED:20210130T083701Z
LAST-MODIFIED:20210301T034802Z
UID:657-1615400100-1615409100@www.bictonjcc.com.au
SUMMARY:Volunteers Night 2021
DESCRIPTION:Volunteers Night Wed 10th March 6.15pm – 8.45pm.
URL:https://www.bictonjcc.com.au/event/volunteers-night-2021/
END:VEVENT
BEGIN:VEVENT
DTSTART;TZID=Australia/Perth:20210608T190000
DTEND;TZID=Australia/Perth:20210608T210000
DTSTAMP:20260425T184527
CREATED:20210505T115051Z
LAST-MODIFIED:20210505T115220Z
UID:683-1623178800-1623186000@www.bictonjcc.com.au
SUMMARY:Bicton JCC 2021 AGM
DESCRIPTION:Bicton JCC 2021 AGM on Tuesday 8th June at 7pm at Troy Park\, Burke Drive\, Attadale \nPlease RSVP to admin@bictonjcc.com.au so Agenda and supporting documents can be sent to you in advance of meeting. 
URL:https://www.bictonjcc.com.au/event/bicton-jcc-2021-agm/
END:VEVENT
BEGIN:VEVENT
DTSTART;VALUE=DATE:20221017
DTEND;VALUE=DATE:20221018
DTSTAMP:20260425T184527
CREATED:20220915T133400Z
LAST-MODIFIED:20220915T133400Z
UID:1137-1665964800-1666051199@www.bictonjcc.com.au
SUMMARY:Coaches and Managers Evening
DESCRIPTION:Venue and time tbc.
URL:https://www.bictonjcc.com.au/event/coaches-and-managers-evening/
END:VEVENT
BEGIN:VEVENT
DTSTART;VALUE=DATE:20221211
DTEND;VALUE=DATE:20221212
DTSTAMP:20260425T184527
CREATED:20220915T133530Z
LAST-MODIFIED:20220915T133530Z
UID:1139-1670716800-1670803199@www.bictonjcc.com.au
SUMMARY:Christmas Break
DESCRIPTION:
URL:https://www.bictonjcc.com.au/event/christmas-break/
END:VEVENT
BEGIN:VEVENT
DTSTART;TZID=Australia/Perth:20230225T100000
DTEND;TZID=Australia/Perth:20230225T120000
DTSTAMP:20260425T184527
CREATED:20230210T140459Z
LAST-MODIFIED:20230210T155150Z
UID:1200-1677319200-1677326400@www.bictonjcc.com.au
SUMMARY:Junior Blasters End of Season Windup
DESCRIPTION:Junior Blasters End of Season Windup and BBQ \nTroy Park
URL:https://www.bictonjcc.com.au/event/junior-blasters-end-of-season-windup/
END:VEVENT
BEGIN:VEVENT
DTSTART;TZID=Australia/Perth:20230227T180000
DTEND;TZID=Australia/Perth:20230227T200000
DTSTAMP:20260425T184527
CREATED:20230210T140335Z
LAST-MODIFIED:20230210T140335Z
UID:1198-1677520800-1677528000@www.bictonjcc.com.au
SUMMARY:Master Blasters End of Season Windup
DESCRIPTION:Master Blasters End of Season Wind Up and BBQ \nTroy Park
URL:https://www.bictonjcc.com.au/event/master-blasters-end-of-season-windup/
END:VEVENT
BEGIN:VEVENT
DTSTART;VALUE=DATE:20230318
DTEND;VALUE=DATE:20230320
DTSTAMP:20260425T184527
CREATED:20220915T133616Z
LAST-MODIFIED:20220915T133616Z
UID:1141-1679097600-1679270399@www.bictonjcc.com.au
SUMMARY:Semi Finals
DESCRIPTION:
URL:https://www.bictonjcc.com.au/event/semi-finals/
END:VEVENT
BEGIN:VEVENT
DTSTART;TZID=Australia/Perth:20230319T150000
DTEND;TZID=Australia/Perth:20230319T170000
DTSTAMP:20260425T184527
CREATED:20230210T140611Z
LAST-MODIFIED:20230210T140611Z
UID:1202-1679238000-1679245200@www.bictonjcc.com.au
SUMMARY:Juniors End of Season WindUp
DESCRIPTION:Juniors End of Season Wind Up and BBQ \nTroy Park
URL:https://www.bictonjcc.com.au/event/juniors-end-of-season-windup/
END:VEVENT
BEGIN:VEVENT
DTSTART;VALUE=DATE:20230325
DTEND;VALUE=DATE:20230327
DTSTAMP:20260425T184527
CREATED:20220915T133657Z
LAST-MODIFIED:20220915T133657Z
UID:1143-1679702400-1679875199@www.bictonjcc.com.au
SUMMARY:Grand Finals
DESCRIPTION:
URL:https://www.bictonjcc.com.au/event/grand-finals/
END:VEVENT
END:VCALENDAR