BEGIN:VCALENDAR
VERSION:2.0
PRODID:-//Bicton Junior Cricket Club - ECPv6.15.11//NONSGML v1.0//EN
CALSCALE:GREGORIAN
METHOD:PUBLISH
X-WR-CALNAME:Bicton Junior Cricket Club
X-ORIGINAL-URL:https://www.bictonjcc.com.au
X-WR-CALDESC:Events for Bicton Junior Cricket Club
REFRESH-INTERVAL;VALUE=DURATION:PT1H
X-Robots-Tag:noindex
X-PUBLISHED-TTL:PT1H
BEGIN:VTIMEZONE
TZID:Australia/Perth
BEGIN:STANDARD
TZOFFSETFROM:+0800
TZOFFSETTO:+0800
TZNAME:AWST
DTSTART:20180101T000000
END:STANDARD
END:VTIMEZONE
BEGIN:VEVENT
DTSTART;VALUE=DATE:20200915
DTEND;VALUE=DATE:20200916
DTSTAMP:20260425T220632
CREATED:20200828T074431Z
LAST-MODIFIED:20200828T074455Z
UID:606-1600128000-1600214399@www.bictonjcc.com.au
SUMMARY:Coach Development Workshop
DESCRIPTION:https://www.community.cricket.com.au/coach/courses
URL:https://www.bictonjcc.com.au/event/coach-development-workshop/
END:VEVENT
BEGIN:VEVENT
DTSTART;TZID=Australia/Perth:20200908T040000
DTEND;TZID=Australia/Perth:20200908T183000
DTSTAMP:20260425T220632
CREATED:20200828T083518Z
LAST-MODIFIED:20200828T083708Z
UID:619-1599537600-1599589800@www.bictonjcc.com.au
SUMMARY:WACA COACH & TALENT WORKSHOP
DESCRIPTION:This course caters for players to be involved in the session from each club that have been identified by their club as emerging talent aged between U13s- U17s. The session will incorporate fitness\, throwing\, fielding & skill development foundations and have a heavy focus on ” play centred” activities. It will also provide an opportunity for High Performance to catch up with all Junior coaches at clubs and discuss coaching\, share best practices and answer any questions you might have surrounding coaching and coach development. \nhttps://www.community.cricket.com.au/coach/courses/course-listing \nLocation: Tompkins Park
URL:https://www.bictonjcc.com.au/event/waca-coach-talent-workshop/
END:VEVENT
BEGIN:VEVENT
DTSTART;TZID=Australia/Perth:20200904T163000
DTEND;TZID=Australia/Perth:20200904T180000
DTSTAMP:20260425T220632
CREATED:20200828T073823Z
LAST-MODIFIED:20200828T073823Z
UID:602-1599237000-1599242400@www.bictonjcc.com.au
SUMMARY:SWMJCC Association Hub event
DESCRIPTION:
URL:https://www.bictonjcc.com.au/event/swmjcc-association-hub-event/
END:VEVENT
BEGIN:VEVENT
DTSTART;TZID=Australia/Perth:20200830T130000
DTEND;TZID=Australia/Perth:20200830T160000
DTSTAMP:20260425T220632
CREATED:20200828T073655Z
LAST-MODIFIED:20200828T073655Z
UID:600-1598792400-1598803200@www.bictonjcc.com.au
SUMMARY:WACA Carnival Day
DESCRIPTION:
URL:https://www.bictonjcc.com.au/event/waca-carnival-day/
END:VEVENT
BEGIN:VEVENT
DTSTART;TZID=Australia/Perth:20200609T190000
DTEND;TZID=Australia/Perth:20200609T210000
DTSTAMP:20260425T220632
CREATED:20200527T110206Z
LAST-MODIFIED:20200527T110206Z
UID:560-1591729200-1591736400@www.bictonjcc.com.au
SUMMARY:AGM 2020
DESCRIPTION:Bicton Junior Cricket Club will be holding its AGM on Tuesday\, 9th June 2020 at 7pm at Troy Park\, Burke Drive\, Attadale. \nPlease RSVP to admin@bictonjcc.com.au so Agenda and supporting documents can be sent to you in advance of meeting. 
URL:https://www.bictonjcc.com.au/event/agm-2020/
END:VEVENT
BEGIN:VEVENT
DTSTART;VALUE=DATE:20191212
DTEND;VALUE=DATE:20191213
DTSTAMP:20260425T220632
CREATED:20191018T104028Z
LAST-MODIFIED:20191018T104028Z
UID:546-1576108800-1576195199@www.bictonjcc.com.au
SUMMARY:Community Coaching Masterclass
DESCRIPTION:Community Coaching Masterclass\n(Premier Club workshop)
URL:https://www.bictonjcc.com.au/event/community-coaching-masterclass/
END:VEVENT
BEGIN:VEVENT
DTSTART;VALUE=DATE:20191113
DTEND;VALUE=DATE:20191114
DTSTAMP:20260425T220632
CREATED:20191018T100219Z
LAST-MODIFIED:20191018T100219Z
UID:544-1573603200-1573689599@www.bictonjcc.com.au
SUMMARY:Coach Development Workshop - WACA
DESCRIPTION:Coach Development Workshop – WACA – Troy Park
URL:https://www.bictonjcc.com.au/event/coach-development-workshop-waca/
END:VEVENT
BEGIN:VEVENT
DTSTART;VALUE=DATE:20191023
DTEND;VALUE=DATE:20191024
DTSTAMP:20260425T220632
CREATED:20191011T064728Z
LAST-MODIFIED:20191011T064728Z
UID:537-1571788800-1571875199@www.bictonjcc.com.au
SUMMARY:WACA E-Scoring Workshop
DESCRIPTION:
URL:https://www.bictonjcc.com.au/event/waca-e-scoring-workshop/
END:VEVENT
BEGIN:VEVENT
DTSTART;VALUE=DATE:20191021
DTEND;VALUE=DATE:20191022
DTSTAMP:20260425T220632
CREATED:20191018T100032Z
LAST-MODIFIED:20191018T100032Z
UID:542-1571616000-1571702399@www.bictonjcc.com.au
SUMMARY:SWMJCC Coaches & Managers night
DESCRIPTION:SWMJCC Coaches & Managers night – compulsory ALL GRADES\n\n* Melville Bowling Club from 6pm 
URL:https://www.bictonjcc.com.au/event/swmjcc-coaches-managers-night/
END:VEVENT
BEGIN:VEVENT
DTSTART;VALUE=DATE:20191015
DTEND;VALUE=DATE:20191016
DTSTAMP:20260425T220632
CREATED:20191011T064630Z
LAST-MODIFIED:20191011T064630Z
UID:535-1571097600-1571183999@www.bictonjcc.com.au
SUMMARY:BJCC Coaches Night
DESCRIPTION:
URL:https://www.bictonjcc.com.au/event/bjcc-coaches-night/
END:VEVENT
BEGIN:VEVENT
DTSTART;TZID=Australia/Perth:20191013T090000
DTEND;TZID=Australia/Perth:20191013T120000
DTSTAMP:20260425T220632
CREATED:20190910T012739Z
LAST-MODIFIED:20190910T013113Z
UID:526-1570957200-1570968000@www.bictonjcc.com.au
SUMMARY:SWMC Coaching Course
DESCRIPTION:Level 1. Held at Alan Edwards Reserve
URL:https://www.bictonjcc.com.au/event/swmc-coaching-course/
END:VEVENT
BEGIN:VEVENT
DTSTART;TZID=Australia/Perth:20190915T090000
DTEND;TZID=Australia/Perth:20190915T120000
DTSTAMP:20260425T220632
CREATED:20190910T012927Z
LAST-MODIFIED:20190910T012927Z
UID:529-1568538000-1568548800@www.bictonjcc.com.au
SUMMARY:Cricket Blast Coordinator Training
DESCRIPTION:Held at WACA
URL:https://www.bictonjcc.com.au/event/cricket-blast-coordinator-training/
END:VEVENT
BEGIN:VEVENT
DTSTART;TZID=Australia/Perth:20190331T150000
DTEND;TZID=Australia/Perth:20190331T180000
DTSTAMP:20260425T220632
CREATED:20190314T121707Z
LAST-MODIFIED:20190314T121707Z
UID:416-1554044400-1554055200@www.bictonjcc.com.au
SUMMARY:BJCC Windup 18/19
DESCRIPTION:
URL:https://www.bictonjcc.com.au/event/bjcc-windup-18-19/
ATTACH;FMTTYPE=image/jpeg:https://www.bictonjcc.com.au/wp-content/uploads/18-19-bjcc-windup.jpg
END:VEVENT
BEGIN:VEVENT
DTSTART;TZID=Australia/Perth:20190318T170000
DTEND;TZID=Australia/Perth:20190318T183000
DTSTAMP:20260425T220632
CREATED:20190314T121239Z
LAST-MODIFIED:20190314T121439Z
UID:412-1552928400-1552933800@www.bictonjcc.com.au
SUMMARY:Master Blasters Final Session and Windup 18/19
DESCRIPTION:
URL:https://www.bictonjcc.com.au/event/master-blasters-final-session-and-windup-18-19/
ATTACH;FMTTYPE=image/jpeg:https://www.bictonjcc.com.au/wp-content/uploads/18-19-bjcc-blasters-windup.jpg
END:VEVENT
BEGIN:VEVENT
DTSTART;TZID=Australia/Perth:20190316T090000
DTEND;TZID=Australia/Perth:20190316T100000
DTSTAMP:20260425T220632
CREATED:20190314T121116Z
LAST-MODIFIED:20190314T121508Z
UID:409-1552726800-1552730400@www.bictonjcc.com.au
SUMMARY:Junior Blasters Final Session and Windup 18/19
DESCRIPTION:
URL:https://www.bictonjcc.com.au/event/junior-blasters-final-session-and-windup-18-19/
ATTACH;FMTTYPE=image/jpeg:https://www.bictonjcc.com.au/wp-content/uploads/18-19-bjcc-blasters-windup.jpg
END:VEVENT
BEGIN:VEVENT
DTSTART;TZID=Australia/Perth:20190228T180000
DTEND;TZID=Australia/Perth:20190228T200000
DTSTAMP:20260425T220632
CREATED:20190204T034703Z
LAST-MODIFIED:20190204T040502Z
UID:392-1551376800-1551384000@www.bictonjcc.com.au
SUMMARY:Volunteers Appreciation Night
DESCRIPTION:Please join us for the BJCC Volunteers Appreciation Night to celebrate the incredible support & work you do for our club – Drinks & snacks provided \nLocation: Troy Park Clubrooms\, ATTADALE \nThis is a casual get together for our amazing coaches\, managers\, committee and life membe \nPlease RSVP to Dave\, by 18th Feb. (for catering purposes)  \nPlease also advise us of any dietary requirements  \ndavidbarra@iinet.net.au
URL:https://www.bictonjcc.com.au/event/volunteers-appreciation-night/
END:VEVENT
BEGIN:VEVENT
DTSTART;VALUE=DATE:20190225
DTEND;VALUE=DATE:20190226
DTSTAMP:20260425T220632
CREATED:20190125T091334Z
LAST-MODIFIED:20190125T091334Z
UID:373-1551052800-1551139199@www.bictonjcc.com.au
SUMMARY:Player Visit
DESCRIPTION:Further info to follow.
URL:https://www.bictonjcc.com.au/event/player-visit-2/
END:VEVENT
BEGIN:VEVENT
DTSTART;VALUE=DATE:20190223
DTEND;VALUE=DATE:20190224
DTSTAMP:20260425T220632
CREATED:20190125T091201Z
LAST-MODIFIED:20190125T091201Z
UID:371-1550880000-1550966399@www.bictonjcc.com.au
SUMMARY:Player Visit
DESCRIPTION:Further info to follow.
URL:https://www.bictonjcc.com.au/event/player-visit/
END:VEVENT
BEGIN:VEVENT
DTSTART;VALUE=DATE:20190218
DTEND;VALUE=DATE:20190219
DTSTAMP:20260425T220632
CREATED:20190204T040252Z
LAST-MODIFIED:20190204T040252Z
UID:396-1550448000-1550534399@www.bictonjcc.com.au
SUMMARY:RSVP Due for Volunteers Appreciation Night
DESCRIPTION:RSVP is due for the upcoming BJCC Volunteers Appreciation Night (to be held on 28th Feb 6pm – 8pm).\nThis is necessary for catering purposes. \nPlease provide your RSVP (as well as any dietary requirements) to Dave at davidbarra@iinet.net.au
URL:https://www.bictonjcc.com.au/event/rsvp-due-for-volunteers-appreciation-night/
END:VEVENT
BEGIN:VEVENT
DTSTART;VALUE=DATE:20190213
DTEND;VALUE=DATE:20190214
DTSTAMP:20260425T220632
CREATED:20190125T091727Z
LAST-MODIFIED:20190125T091727Z
UID:377-1550016000-1550102399@www.bictonjcc.com.au
SUMMARY:WACA Training Sessions - 11's
DESCRIPTION:WACA 11’s combined training session. \n** Times to be advised
URL:https://www.bictonjcc.com.au/event/waca-training-sessions-11s/
END:VEVENT
BEGIN:VEVENT
DTSTART;VALUE=DATE:20190212
DTEND;VALUE=DATE:20190213
DTSTAMP:20260425T220632
CREATED:20190125T091606Z
LAST-MODIFIED:20190125T091606Z
UID:375-1549929600-1550015999@www.bictonjcc.com.au
SUMMARY:WACA Training Sessions - 10's
DESCRIPTION:WACA 10s combined training session. \n** Times to be advised
URL:https://www.bictonjcc.com.au/event/waca-training-sessions-10s/
END:VEVENT
BEGIN:VEVENT
DTSTART;VALUE=DATE:20190211
DTEND;VALUE=DATE:20190212
DTSTAMP:20260425T220632
CREATED:20190125T092842Z
LAST-MODIFIED:20190125T092842Z
UID:383-1549843200-1549929599@www.bictonjcc.com.au
SUMMARY:Level 1 Coaching Course
DESCRIPTION:LEVEL 1 Coaching Course (potential Coaches for 2019/20). \n** Times to be advised \nEnquiries to Rob Palmiero by using the form below: \n[gravityform id=”6″ title=”false” description=”false”]
URL:https://www.bictonjcc.com.au/event/level-1-coaching-course-2/
END:VEVENT
BEGIN:VEVENT
DTSTART;VALUE=DATE:20190211
DTEND;VALUE=DATE:20190212
DTSTAMP:20260425T220632
CREATED:20190125T091021Z
LAST-MODIFIED:20190125T091021Z
UID:369-1549843200-1549929599@www.bictonjcc.com.au
SUMMARY:2018/19 Master Blasters Season Restart
DESCRIPTION:Second half of the 2018/19 Cricket season restarts for Master Blasters. \n** Please check with your coach or team manager for exact time of your team’s game
URL:https://www.bictonjcc.com.au/event/2018-19-master-blasters-season-restart/
END:VEVENT
BEGIN:VEVENT
DTSTART;VALUE=DATE:20190209
DTEND;VALUE=DATE:20190211
DTSTAMP:20260425T220632
CREATED:20190125T085521Z
LAST-MODIFIED:20190207T115438Z
UID:365-1549670400-1549843199@www.bictonjcc.com.au
SUMMARY:2018/19 Junior Cricket Restart
DESCRIPTION:Second half of the 2018/19 Cricket season restarts for Junior Cricket (10’s to 17’s Boys & Girls) \n** Please check with your coach or team manager for exact time and day for your team’s game
URL:https://www.bictonjcc.com.au/event/2018-19-junior-cricket-restart/
END:VEVENT
BEGIN:VEVENT
DTSTART;VALUE=DATE:20190209
DTEND;VALUE=DATE:20190210
DTSTAMP:20260425T220632
CREATED:20190125T090703Z
LAST-MODIFIED:20190125T090801Z
UID:367-1549670400-1549756799@www.bictonjcc.com.au
SUMMARY:2018/19 Junior Blasters Season Restart
DESCRIPTION:Second half of the 2018/19 Cricket season restarts for Junior Blasters. \n** Please check with your coach or team manager for exact time of your team’s game
URL:https://www.bictonjcc.com.au/event/2018-19-junior-blasters-season-restart/
END:VEVENT
BEGIN:VEVENT
DTSTART;VALUE=DATE:20190204
DTEND;VALUE=DATE:20190205
DTSTAMP:20260425T220632
CREATED:20190125T092742Z
LAST-MODIFIED:20190125T092742Z
UID:379-1549238400-1549324799@www.bictonjcc.com.au
SUMMARY:Level 1 Coaching Course
DESCRIPTION:LEVEL 1 Coaching Course (potential Coaches for 2019/20). \n** Times to be advised \nEnquiries to Rob Palmiero by using the form below: \n[gravityform id=”6″ title=”false” description=”false”]
URL:https://www.bictonjcc.com.au/event/level-1-coaching-course/
END:VEVENT
END:VCALENDAR