BEGIN:VCALENDAR
VERSION:2.0
PRODID:-//Bicton Junior Cricket Club - ECPv6.15.11//NONSGML v1.0//EN
CALSCALE:GREGORIAN
METHOD:PUBLISH
X-ORIGINAL-URL:https://www.bictonjcc.com.au
X-WR-CALDESC:Events for Bicton Junior Cricket Club
REFRESH-INTERVAL;VALUE=DURATION:PT1H
X-Robots-Tag:noindex
X-PUBLISHED-TTL:PT1H
BEGIN:VTIMEZONE
TZID:Australia/Perth
BEGIN:STANDARD
TZOFFSETFROM:+0800
TZOFFSETTO:+0800
TZNAME:AWST
DTSTART:20210101T000000
END:STANDARD
END:VTIMEZONE
BEGIN:VEVENT
DTSTART;VALUE=DATE:20221211
DTEND;VALUE=DATE:20221212
DTSTAMP:20260426T091907
CREATED:20220915T133530Z
LAST-MODIFIED:20220915T133530Z
UID:1139-1670716800-1670803199@www.bictonjcc.com.au
SUMMARY:Christmas Break
DESCRIPTION:
URL:https://www.bictonjcc.com.au/event/christmas-break/
END:VEVENT
END:VCALENDAR