BEGIN:VCALENDAR
VERSION:2.0
PRODID:-//Bicton Junior Cricket Club - ECPv6.15.11//NONSGML v1.0//EN
CALSCALE:GREGORIAN
METHOD:PUBLISH
X-WR-CALNAME:Bicton Junior Cricket Club
X-ORIGINAL-URL:https://www.bictonjcc.com.au
X-WR-CALDESC:Events for Bicton Junior Cricket Club
REFRESH-INTERVAL;VALUE=DURATION:PT1H
X-Robots-Tag:noindex
X-PUBLISHED-TTL:PT1H
BEGIN:VTIMEZONE
TZID:Australia/Perth
BEGIN:STANDARD
TZOFFSETFROM:+0800
TZOFFSETTO:+0800
TZNAME:AWST
DTSTART:20190101T000000
END:STANDARD
END:VTIMEZONE
BEGIN:VEVENT
DTSTART;VALUE=DATE:20200915
DTEND;VALUE=DATE:20200916
DTSTAMP:20260425T200208
CREATED:20200828T074431Z
LAST-MODIFIED:20200828T074455Z
UID:606-1600128000-1600214399@www.bictonjcc.com.au
SUMMARY:Coach Development Workshop
DESCRIPTION:https://www.community.cricket.com.au/coach/courses
URL:https://www.bictonjcc.com.au/event/coach-development-workshop/
END:VEVENT
END:VCALENDAR