BEGIN:VCALENDAR
VERSION:2.0
PRODID:-//Bicton Junior Cricket Club - ECPv6.15.11//NONSGML v1.0//EN
CALSCALE:GREGORIAN
METHOD:PUBLISH
X-WR-CALNAME:Bicton Junior Cricket Club
X-ORIGINAL-URL:https://www.bictonjcc.com.au
X-WR-CALDESC:Events for Bicton Junior Cricket Club
REFRESH-INTERVAL;VALUE=DURATION:PT1H
X-Robots-Tag:noindex
X-PUBLISHED-TTL:PT1H
BEGIN:VTIMEZONE
TZID:Australia/Perth
BEGIN:STANDARD
TZOFFSETFROM:+0800
TZOFFSETTO:+0800
TZNAME:AWST
DTSTART:20190101T000000
END:STANDARD
END:VTIMEZONE
BEGIN:VEVENT
DTSTART;TZID=Australia/Perth:20200904T163000
DTEND;TZID=Australia/Perth:20200904T180000
DTSTAMP:20260425T182015
CREATED:20200828T073823Z
LAST-MODIFIED:20200828T073823Z
UID:602-1599237000-1599242400@www.bictonjcc.com.au
SUMMARY:SWMJCC Association Hub event
DESCRIPTION:
URL:https://www.bictonjcc.com.au/event/swmjcc-association-hub-event/
END:VEVENT
END:VCALENDAR