BEGIN:VCALENDAR
VERSION:2.0
PRODID:-//Bicton Junior Cricket Club - ECPv5.3.2.1//NONSGML v1.0//EN
CALSCALE:GREGORIAN
METHOD:PUBLISH
X-WR-CALNAME:Bicton Junior Cricket Club
X-ORIGINAL-URL:https://www.bictonjcc.com.au
X-WR-CALDESC:Events for Bicton Junior Cricket Club
BEGIN:VTIMEZONE
TZID:Australia/Perth
BEGIN:STANDARD
TZOFFSETFROM:+0800
TZOFFSETTO:+0800
TZNAME:AWST
DTSTART:20210101T000000
END:STANDARD
END:VTIMEZONE
BEGIN:VEVENT
DTSTART;VALUE=DATE:20210308
DTEND;VALUE=DATE:20210309
DTSTAMP:20210227T200444
CREATED:20210130T083402Z
LAST-MODIFIED:20210130T083402Z
UID:653-1615161600-1615247999@www.bictonjcc.com.au
SUMMARY:Master Blasters Wind Up 2020/21
DESCRIPTION:Master Blasters Wind Up Monday 8th March 2021 – usual time to sessions they have every week
URL:https://www.bictonjcc.com.au/event/master-blasters-wind-up-2020-21/
END:VEVENT
END:VCALENDAR