BEGIN:VCALENDAR
VERSION:2.0
PRODID:-//Bicton Junior Cricket Club - ECPv5.3.2.1//NONSGML v1.0//EN
CALSCALE:GREGORIAN
METHOD:PUBLISH
X-WR-CALNAME:Bicton Junior Cricket Club
X-ORIGINAL-URL:https://www.bictonjcc.com.au
X-WR-CALDESC:Events for Bicton Junior Cricket Club
BEGIN:VTIMEZONE
TZID:Australia/Perth
BEGIN:STANDARD
TZOFFSETFROM:+0800
TZOFFSETTO:+0800
TZNAME:AWST
DTSTART:20210101T000000
END:STANDARD
END:VTIMEZONE
BEGIN:VEVENT
DTSTART;VALUE=DATE:20210306
DTEND;VALUE=DATE:20210307
DTSTAMP:20210227T200312
CREATED:20210130T083517Z
LAST-MODIFIED:20210216T103025Z
UID:655-1614988800-1615075199@www.bictonjcc.com.au
SUMMARY:Junior Blasters Wind Up 2020/21
DESCRIPTION:Junior Blasters Wind Up Sat 6th March 2021 – usual time to sessions they have every week.
URL:https://www.bictonjcc.com.au/event/junior-blasters-wind-up-2020-21/
END:VEVENT
END:VCALENDAR