BEGIN:VCALENDAR
VERSION:2.0
PRODID:-//Bicton Junior Cricket Club - ECPv6.15.11//NONSGML v1.0//EN
CALSCALE:GREGORIAN
METHOD:PUBLISH
X-WR-CALNAME:Bicton Junior Cricket Club
X-ORIGINAL-URL:https://www.bictonjcc.com.au
X-WR-CALDESC:Events for Bicton Junior Cricket Club
REFRESH-INTERVAL;VALUE=DURATION:PT1H
X-Robots-Tag:noindex
X-PUBLISHED-TTL:PT1H
BEGIN:VTIMEZONE
TZID:Australia/Perth
BEGIN:STANDARD
TZOFFSETFROM:+0800
TZOFFSETTO:+0800
TZNAME:AWST
DTSTART:20180101T000000
END:STANDARD
END:VTIMEZONE
BEGIN:VEVENT
DTSTART;VALUE=DATE:20190211
DTEND;VALUE=DATE:20190212
DTSTAMP:20260424T230130
CREATED:20190125T091021Z
LAST-MODIFIED:20190125T091021Z
UID:369-1549843200-1549929599@www.bictonjcc.com.au
SUMMARY:2018/19 Master Blasters Season Restart
DESCRIPTION:Second half of the 2018/19 Cricket season restarts for Master Blasters. \n** Please check with your coach or team manager for exact time of your team’s game
URL:https://www.bictonjcc.com.au/event/2018-19-master-blasters-season-restart/
END:VEVENT
END:VCALENDAR